BEGIN:VCALENDAR
VERSION:2.0
CALSCALE:GREGORIAN
METHOD:PUBLISH
X-WR-TIMEZONE:Australia/Sydney
BEGIN:VTIMEZONE
TZID:Australia/Sydney
BEGIN:STANDARD
TZNAME:AEST
DTSTART:19700101T000000
TZOFFSETFROM:+1100
TZOFFSETTO:+1000
END:STANDARD
END:VTIMEZONE
BEGIN:VEVENT
DTSTART;TZID=Australia/Sydney:20260515
DTEND;TZID=Australia/Sydney:20260515
DTSTAMP:20260421T050946
UID:565
SUMMARY:Faction Cross Country
DESCRIPTION:




What: Faction Cross CountryWhere:&amp;nbsp;Williams PSWho:&amp;nbsp;TBAWhen: Friday15 May&amp;nbsp;2026Permission Forms Returned By:&amp;nbsp;TBACost:&amp;nbsp;TBAExcursion Contact:&amp;nbsp;TBAFurther Information:&amp;nbsp;TBA


SEQUENCE:0
STATUS:CONFIRMED
TRANSP:OPAQUE
END:VEVENT
END:VCALENDAR