BEGIN:VCALENDAR
VERSION:2.0
CALSCALE:GREGORIAN
METHOD:PUBLISH
X-WR-TIMEZONE:Australia/Sydney
BEGIN:VTIMEZONE
TZID:Australia/Sydney
BEGIN:STANDARD
TZNAME:AEST
DTSTART:19700101T000000
TZOFFSETFROM:+1100
TZOFFSETTO:+1000
END:STANDARD
END:VTIMEZONE
BEGIN:VEVENT
DTSTART;TZID=Australia/Sydney:20260521T143000
DTEND;TZID=Australia/Sydney:20260521T150000
DTSTAMP:20260423T001752
UID:524
SUMMARY:Room 5 Assembly
DESCRIPTION:




What:&amp;nbsp;School AssemblyWhere:&amp;nbsp;Williams Primary School -&amp;nbsp;Undercover AreaWho:&amp;nbsp;Hosted by Room 5When: Thursday 21 May at 2.30 pmPermission Forms Returned By:&amp;nbsp;NACost:&amp;nbsp;NA
Further Information:&amp;nbsp;Parents are invited to attend. Classrooms will be open for viewing following the assembly from 3.00 pm until 3.30 pm.


SEQUENCE:0
STATUS:CONFIRMED
TRANSP:OPAQUE
END:VEVENT
END:VCALENDAR